BEGIN:VCALENDAR
VERSION:2.0
PRODID:-//wp-events-plugin.com//7.2.3.1//EN
TZID:Asia/Tokyo
X-WR-TIMEZONE:Asia/Tokyo
BEGIN:VEVENT
UID:21@onkannavi.com
DTSTART;TZID=Asia/Tokyo:20251122T220000
DTEND;TZID=Asia/Tokyo:20251122T220000
DTSTAMP:20251118T170719Z
URL:https://onkannavi.com/events/miles-world-release-live/
SUMMARY:2025/11/22 TRIANGLE 14th Anniversary DAY2-MILES WORD 1st ALBUM "Thi
 s iz..."Release Special-
DESCRIPTION:イベント概要\n料金\nDOOR 3\,000yen(＋1Drink)\n\nADV 2\
 ,000yen(＋1Drink)\n出演者情報\nMain Floor\nGuest Release Live\nMILES
  WORD\nDJ\nCROSS\n\nguendouzi\n\nTRX-D\n\n奏音\nBeat LIVE\nDr.BUCK-ES\n\
 nSQUAL\n\nD.W.N\nLIVE\nRAWAX\n\nBNKR街道\n\nMADJAG&amp\;RUGSHOT\n\nKAKKY
 \n\nMarcorosso\n\n煙神力\n\nHARD WORKERS\n\nSWANKYMONKY\n\nPCILL\n\n430
 \n\nANGLER &amp\; MAENII\n\nEvisu Village\nRooftop Floor\nDJ\n伊集\n\nST
 \n\nNumark\n\nNOWLY\nLIVE\nEiT\n\nChillmatic\n\nHuman Network\n\n颯偲\n\
 nChitra\n\nbubble green\n\nB.BIRD &amp\; MOSS\n\n霧鐘\n\nBLOOM AURA\n\nM
 JLAA &amp\; calld\n\nM.5.D CRIMINAL\n\nFeliz\n-BEAT LIVE-\nvvind\n\nPONE
ATTACH;FMTTYPE=image/jpeg:https://i0.wp.com/onkannavi.com/wp-content/uploa
 ds/2025/11/MILES-WORD-1st-ALBUM-Release-Special.jpg?fit=1076%2C1522&ssl=1
CATEGORIES:HIP HOP
LOCATION:https://maps.app.goo.gl/Cu9gdhgoHPeFWXN57
END:VEVENT
BEGIN:VTIMEZONE
TZID:Asia/Tokyo
X-LIC-LOCATION:Asia/Tokyo
BEGIN:STANDARD
DTSTART:20241122T220000
TZOFFSETFROM:+0900
TZOFFSETTO:+0900
TZNAME:JST
END:STANDARD
END:VTIMEZONE
END:VCALENDAR