BEGIN:VCALENDAR
VERSION:2.0
PRODID:-//wp-events-plugin.com//7.2.3.1//EN
TZID:Asia/Tokyo
X-WR-TIMEZONE:Asia/Tokyo
BEGIN:VEVENT
UID:2@onkannavi.com
DTSTART;TZID=Asia/Tokyo:20251124T143000
DTEND;TZID=Asia/Tokyo:20251124T143000
DTSTAMP:20251110T104444Z
URL:https://onkannavi.com/events/kansai-cypher-mc-battle-2025/
SUMMARY:関西エリア サイファー対抗MCバトル 2025
DESCRIPTION:\n料金\n\n\n\n前売り：¥2\,500（別途1Drink） 当日
 ：¥3\,000（別途1Drink）\n\n\n\n出演者情報\n\n\n\nGuest LIVE\n\n
 \n\nKZ（梅田サイファー）\n\n\n\n出演チーム\n\n\n\n鶴見緑
 地サイファー\n\n\n\n上新庄サイファー\n\n\n\n大阪狭山市
 サイファー\n\n\n\nBARライムサイファー\n\n\n\n湊川サイフ
 ァー\n\n\n\nOZUサイファー\n\n\n\nミナミ路上サイファー\n\n
 \n\n住之江サイファー\n\n\n\n京都駅サイファー\n\n\n\n京田
 辺サイファー\n\n\n\n茨木サイファー\n\n\n\n草津駅サイフ
 ァー\n\n\n\n特記事項\n\n\n\n各チームによるライブ出演あ
 り\n
ATTACH;FMTTYPE=image/jpeg:https://i0.wp.com/onkannavi.com/wp-content/uploa
 ds/2025/11/%E3%82%B5%E3%82%A4%E3%83%95%E3%82%A1%E3%83%BC%E5%AF%BE%E6%8A%97
 .jpg?fit=1079%2C1334&ssl=1
CATEGORIES:HIP HOP
LOCATION:https://maps.app.goo.gl/22jWoM6QKCpiGjhe6
END:VEVENT
BEGIN:VTIMEZONE
TZID:Asia/Tokyo
X-LIC-LOCATION:Asia/Tokyo
BEGIN:STANDARD
DTSTART:20241124T143000
TZOFFSETFROM:+0900
TZOFFSETTO:+0900
TZNAME:JST
END:STANDARD
END:VTIMEZONE
END:VCALENDAR