BEGIN:VCALENDAR
VERSION:2.0
PRODID:-//wp-events-plugin.com//7.2.3.1//EN
TZID:Asia/Tokyo
X-WR-TIMEZONE:Asia/Tokyo
BEGIN:VEVENT
UID:32@onkannavi.com
DTSTART;TZID=Asia/Tokyo:20260107T180000
DTEND;TZID=Asia/Tokyo:20260107T230000
DTSTAMP:20251216T023959Z
URL:https://onkannavi.com/events/20260106-dtrk/
SUMMARY:2026/1/7 大闘論會
DESCRIPTION:イベント概要\n料金\nADV.（w1D）¥1\,700\nDOOR（w1D
 ）¥2\,200\n出演者情報\nGuest LIVE\nDraw4\nPick up LIVE\nHADD\n\nRES
 IN\n\nRovenHope\nRelease LIVE\ngyan &amp\; SacaiPraya\nLIVE\n5pirit\n\nB-L
 ad\n\nDBRYU\n\nMC お嬢\n\nTempest\n\nスペシャルマンタロウ\n\n
 とうまっちょ\nDJ\nDunk\n\nMadeLLa\n\nSHAOLIN\n\nとうまっちょ\n
 \n銀大正\n\nSo-T\nDancer\nGray a.k.a. Tiny STEEL\nSupporter\n043\nTime 
 TABLE\n
ATTACH;FMTTYPE=image/jpeg:https://i0.wp.com/onkannavi.com/wp-content/uploa
 ds/2025/12/1.png?fit=1414%2C2000&ssl=1
CATEGORIES:HIP HOP
LOCATION:https://maps.app.goo.gl/KVCZFgYerRk8omdPA
END:VEVENT
BEGIN:VTIMEZONE
TZID:Asia/Tokyo
X-LIC-LOCATION:Asia/Tokyo
BEGIN:STANDARD
DTSTART:20250107T180000
TZOFFSETFROM:+0900
TZOFFSETTO:+0900
TZNAME:JST
END:STANDARD
END:VTIMEZONE
END:VCALENDAR