BEGIN:VCALENDAR
VERSION:2.0
PRODID:-//wp-events-plugin.com//7.2.3.1//EN
TZID:Asia/Tokyo
X-WR-TIMEZONE:Asia/Tokyo
BEGIN:VEVENT
UID:23@onkannavi.com
DTSTART;TZID=Asia/Tokyo:20251207T170000
DTEND;TZID=Asia/Tokyo:20251207T230000
DTSTAMP:20251120T032025Z
URL:https://onkannavi.com/events/2025-12-7-detox-vol-11-triangle-osaka-roo
 ftop/
SUMMARY:2025/12/7 DetoX Vol.11 @TRIANGLE OSAKA Rooftop
DESCRIPTION:イベント概要\n料金\nDoor: 2\,500円+1D\n\nAdv:2\,000円
 +1D\n出演者情報\nGuest Dancer\nFactory\nGuest Live\nTRASH\nPick Up Da
 ncer\nU-SUKE&amp\;claw\nDancer\nBK2KB\nFizzyawn\nGray a.k.a Tiny STEEL\nKa
 rie\nKid Lionheart\nMorphyx△rm\nTKふくおん\n-Live-\nANGLER\nDA楽\nD
 um\nDJ\nAyanoman\nMadeLLa\nTRX D\nきんたろう\nBeat Live\nKvRSH0\nshop
 \nLife Skethc\nUnnemy\nげどくめし
ATTACH;FMTTYPE=image/jpeg:https://i0.wp.com/onkannavi.com/wp-content/uploa
 ds/2025/11/2025-12-7-DetoX-Vol.11.jpg?fit=848%2C1200&ssl=1
CATEGORIES:HIP HOP
LOCATION:https://maps.app.goo.gl/9tX2u2AfcbhRgocY6
END:VEVENT
BEGIN:VTIMEZONE
TZID:Asia/Tokyo
X-LIC-LOCATION:Asia/Tokyo
BEGIN:STANDARD
DTSTART:20241207T170000
TZOFFSETFROM:+0900
TZOFFSETTO:+0900
TZNAME:JST
END:STANDARD
END:VTIMEZONE
END:VCALENDAR