BEGIN:VCALENDAR
VERSION:2.0
PRODID:-//wp-events-plugin.com//7.2.3.1//EN
TZID:Asia/Tokyo
X-WR-TIMEZONE:Asia/Tokyo
BEGIN:VEVENT
UID:4@onkannavi.com
DTSTART;TZID=Asia/Tokyo:20251205T220000
DTEND;TZID=Asia/Tokyo:20251205T220000
DTSTAMP:20251110T082550Z
URL:https://onkannavi.com/events/2025-12-5-apollo-theatre-vol-2/
SUMMARY:2025/12/5 APOLLO THEATRE vol.2
DESCRIPTION:イベント概要\n料金\nADV.（w1D） ¥2\,800+1D\nDOOR（w
 1D） ¥3\,300+1D\n出演者情報\nSpecial Guest\nPRIMAL (MSC)\n\nHalt (M
 ic Jack Production)\nGuest\nMAD JAG &amp\; Rug shot\nRelease LIVE\nBIG WIL
 L\n50 brother\nLIVE\nMarcorosso\n\nFeliz\n\nChitra\n\nDeep lounge\n\nSiD\n
 \nRISE\n\nmolfine\nDJ\nMAD JAG\n\nguendouzi\n\nノイロゼ\n出張BEAT LI
 VE &amp\;CIPHER\nPone\n\n※出張BEAT LIVE &amp\;CIPHER とは？\n\nビ
 ートライブとサイファーが合体！\n\nサイファーに参加
 したplayer 1名に、その場で1曲ビート提供！\n\nビート提
 供アーティスト：Pone
ATTACH;FMTTYPE=image/jpeg:https://i0.wp.com/onkannavi.com/wp-content/uploa
 ds/2025/11/APOLLO-THEATRE-vol.2.jpeg?fit=1076%2C1522&ssl=1
CATEGORIES:HIP HOP
LOCATION:https://maps.app.goo.gl/4bnLLqd71XqPFTux6
END:VEVENT
BEGIN:VTIMEZONE
TZID:Asia/Tokyo
X-LIC-LOCATION:Asia/Tokyo
BEGIN:STANDARD
DTSTART:20241205T220000
TZOFFSETFROM:+0900
TZOFFSETTO:+0900
TZNAME:JST
END:STANDARD
END:VTIMEZONE
END:VCALENDAR