BEGIN:VCALENDAR
VERSION:2.0
PRODID:-//wp-events-plugin.com//7.2.3.1//EN
TZID:Asia/Tokyo
X-WR-TIMEZONE:Asia/Tokyo
BEGIN:VEVENT
UID:38@onkannavi.com
DTSTART;TZID=Asia/Tokyo:20251231T220000
DTEND;TZID=Asia/Tokyo:20260101T060000
DTSTAMP:20251216T045111Z
URL:https://onkannavi.com/events/2025-12-31-countdown-party/
SUMMARY:2025/12/31 COUNTDOWN PARTY【超大晦日】
DESCRIPTION:イベント概要\nOPEN 20:00 / CLOSE 6:00\n\n23:50–23:59\n\
 n今年もやります！\n\n決意表明!!!\n料金\nADV：1\,000YEN + 1D
 \n\nDOOR：2\,000YEN + 1D\n\nLADIES FREE!!!\n\nFOREIGNER FREE!!!\n出演
 者情報\nGuest DJ\nKAZZMATAZZ\nLIVE\nRAWAX\n\nJUNKY\n\nSHINMA02\n\nRUGSH
 OT\n\nKAKKY\n\nRESIN\n\nGarden Heights\n\nB.BIRD\n\nMOSS\n\nOG a.k.a. OG\n
 \nc6ke-man\n\nbubble green\n\nG.G\n\nBIG DABULU\n\nBIG WILL\n\nヨハネ
 ス\n\nJASH\n\nKURT\n\n火種\n\nmSaK\n\nBLAIN BLACK\n\nFeliz\n\nMJLAA\n\n
 calld\n\nM.5.D\nDJ\nmatres B2B kakepon\n\nw\n\nFatal\n\nST\n\nTRX-D\n\nMAD
 JAG B2B STAYTUNE\nBeat LIVE\nDr.Buck-Es\nLive PAINT\nM.J RABBIT\n\nARTS SI
 DE\nFood\n年越蕎麦\n\nフェリスエカレー
ATTACH;FMTTYPE=image/jpeg:https://i0.wp.com/onkannavi.com/wp-content/uploa
 ds/2025/12/%E8%B6%85%E5%A4%A7%E6%99%A6%E6%97%A5.jpg?fit=1435%2C1913&ssl=1
CATEGORIES:HIP HOP
END:VEVENT
BEGIN:VTIMEZONE
TZID:Asia/Tokyo
X-LIC-LOCATION:Asia/Tokyo
BEGIN:STANDARD
DTSTART:20241231T220000
TZOFFSETFROM:+0900
TZOFFSETTO:+0900
TZNAME:JST
END:STANDARD
END:VTIMEZONE
END:VCALENDAR