BEGIN:VCALENDAR
VERSION:2.0
PRODID:-//wp-events-plugin.com//7.2.3.1//EN
TZID:Asia/Tokyo
X-WR-TIMEZONE:Asia/Tokyo
BEGIN:VEVENT
UID:35@onkannavi.com
DTSTART;TZID=Asia/Tokyo:20251228T220000
DTEND;TZID=Asia/Tokyo:20251229T070000
DTSTAMP:20251216T034853Z
URL:https://onkannavi.com/events/2025-12-28-osaka-city-diesel/
SUMMARY:2025/12/28 OSAKA CITY DIESEL
DESCRIPTION:イベント概要\n22:00～MORNING!!\n料金\nDOOR ¥1500\nLAD
 IES FREE!!!!\n出演者情報\nPresenter\nYDB\nLIVE\nMADSHOT\nS-KAINE\nDAN
 JO\nILLNANDES\nO.D.S\nYOUNG YUJIRO\nCHAKRA\nDRAGON P\nDJ\nSCRATCH NICE\nEM
 JAY\nZIMBABWE\nPANASONIC\nBeat LIVE\nIN DA HOUSE
ATTACH;FMTTYPE=image/jpeg:https://i0.wp.com/onkannavi.com/wp-content/uploa
 ds/2025/12/G8ICZDEbgAAR0t4.jpg?fit=640%2C795&ssl=1
CATEGORIES:HIP HOP
LOCATION:https://maps.app.goo.gl/KVCZFgYerRk8omdPA
END:VEVENT
BEGIN:VTIMEZONE
TZID:Asia/Tokyo
X-LIC-LOCATION:Asia/Tokyo
BEGIN:STANDARD
DTSTART:20241228T220000
TZOFFSETFROM:+0900
TZOFFSETTO:+0900
TZNAME:JST
END:STANDARD
END:VTIMEZONE
END:VCALENDAR