BEGIN:VCALENDAR
VERSION:2.0
PRODID:-//wp-events-plugin.com//7.2.3.1//EN
TZID:Asia/Tokyo
X-WR-TIMEZONE:Asia/Tokyo
BEGIN:VEVENT
UID:36@onkannavi.com
DTSTART;TZID=Asia/Tokyo:20251220T210000
DTEND;TZID=Asia/Tokyo:20251221T050000
DTSTAMP:20251216T040422Z
URL:https://onkannavi.com/events/2025-12-20-firm-biz-vol-6/
SUMMARY:2025/12/20 FIRM BIZ vol.6
DESCRIPTION:イベント概要\nOPEN 21:00 – CLOSE 05:00\n料金\nADV 1\,
 500YEN +1D\n\nDOOR 2\,000YEN +1D\n\nLADIES FREE（別途1D）\n出演者
 情報\nGuest LIVE\n香\n\nL.O.I.D.A\nPick up LIVE\nREDWING\n\n本輝塾\n
 Release LIVE\n霧鐘\n\nogajun\nLIVE\n石橋アホんだらギャング\n\
 nZZZ:ZZZ\n\nヨハネス\n\nO∞GA\n\nSick bomb\n\nB.E.R.A\n\n火種\n\n
 音\n\nきりん\n\nBANi\nDJ\nSHAOLIN\n\nMadeLLa\n\nEITA\n\n&nbsp\;
ATTACH;FMTTYPE=image/jpeg:https://i0.wp.com/onkannavi.com/wp-content/uploa
 ds/2025/12/FIRM-BIZ.jpg?fit=1435%2C1913&ssl=1
CATEGORIES:HIP HOP
LOCATION:https://maps.app.goo.gl/KVCZFgYerRk8omdPA
END:VEVENT
BEGIN:VTIMEZONE
TZID:Asia/Tokyo
X-LIC-LOCATION:Asia/Tokyo
BEGIN:STANDARD
DTSTART:20241220T210000
TZOFFSETFROM:+0900
TZOFFSETTO:+0900
TZNAME:JST
END:STANDARD
END:VTIMEZONE
END:VCALENDAR