BEGIN:VCALENDAR
VERSION:2.0
PRODID:-//wp-events-plugin.com//7.2.3.1//EN
TZID:Asia/Tokyo
X-WR-TIMEZONE:Asia/Tokyo
BEGIN:VEVENT
UID:43@onkannavi.com
DTSTART;TZID=Asia/Tokyo:20251219T220000
DTEND;TZID=Asia/Tokyo:20251220T220000
DTSTAMP:20251217T000712Z
URL:https://onkannavi.com/events/2025-12-19-triangle-mc-battle-x-%e5%a4%a9
 %e9%a6%ac%e3%82%ab%e3%83%83%e3%83%97/
SUMMARY:2025/12/19 TRIANGLE MC BATTLE × 天馬カップ
DESCRIPTION:イベント概要\n2025年12月19日（金）\n\n22:00～\n料
 金\nDOOR ¥2\,000 +1D\nDOOR ¥3\,000 +1D\nエントリー情報\nエン
 トリー費：¥2\,000\nエントリーMCは当日20時にTRIANGLE集合\
 ntrianglemcbattle2024@gmail.com 宛に\nMCネーム・年齢・アドレ
 スを記載してエントリー\n賞金\nWINNER：¥100\,000 + PROPS\n
 優勝者はTRIANGLEサポートとして、2026年のイベント（一
 部対象外あり）に全て入場可能\n\n\n\n出演者情報\nGuest R
 elease LIVE\nVAAK\n\n禁頭 from HIKIGANE SOUND\nMC（司会）\nMADJAG &a
 mp\; Feliz\nBattle Beat\nCROSS\n\nTRX-D\nBeat LIVE\nST\n\nCHARUMERA\nDJ\nS
 UIGUN\n\nDAIJIRAW\n\nguendouzi\n\nNumark\nLIVE\nBNKR 街道\n\n寺子屋
 ネオンガイド\n\nDEALER from FUKUOKA\n\nRUGSHOT\n\nD'high'S\n\n絆 GU
 LE\n\nFeliz\nチケット案内\n前売りチケット：氏名と枚数
 を記入の上、triangle066@gmail.com まで連絡
ATTACH;FMTTYPE=image/jpeg:https://i0.wp.com/onkannavi.com/wp-content/uploa
 ds/2025/12/G8SFJpeawAAqSL1.jpg?fit=1448%2C2048&ssl=1
CATEGORIES:HIP HOP
LOCATION:https://maps.app.goo.gl/CbdEdMnyUwYKuefc7
END:VEVENT
BEGIN:VTIMEZONE
TZID:Asia/Tokyo
X-LIC-LOCATION:Asia/Tokyo
BEGIN:STANDARD
DTSTART:20241219T220000
TZOFFSETFROM:+0900
TZOFFSETTO:+0900
TZNAME:JST
END:STANDARD
END:VTIMEZONE
END:VCALENDAR