BEGIN:VCALENDAR
VERSION:2.0
PRODID:-//wp-events-plugin.com//7.2.3.1//EN
TZID:Asia/Tokyo
X-WR-TIMEZONE:Asia/Tokyo
BEGIN:VEVENT
UID:25@onkannavi.com
DTSTART;TZID=Asia/Tokyo:20251212T220000
DTEND;TZID=Asia/Tokyo:20251213T050000
DTSTAMP:20251121T173052Z
URL:https://onkannavi.com/events/2025-12-12-chameleon/
SUMMARY:2025/12/12 CHAMELEON
DESCRIPTION:イベント概要\n料金\nADV.（w1D） ¥2\,000+1D\nDOOR（w
 1D） ¥2\,500+1D\nPresents by\nI.S WORK\n\n01d\n出演者情報\nGuest LI
 VE\nSOMAJI\n\nOneMi\n\n晴\nPick up LIVE\nDeep The Sheep\nRelease LIVE\nHR
 T Family's\nLIVE\n01d\n\nVawzer\n\nTPM\n\nROB\n\nYoung jiggy\n\nBilly Bong
 \n\nZACK\n\nTaiyo\n\nschwin\nDJ\, SELECTOR\n96iosity\n\nTAISHO\n\nMirror\n
 \ntuff gong\n\n奏音\n\nNOWLY\n\nNU\n\nNumark\n\ndj_ri9chan\n\nDW\nBeat L
 IVE\nDEMPA\n\nJU1CE' 1\nDance\nNoa\nCamera\nKC\nFood\nCherry Pick\n\nBBQ
ATTACH;FMTTYPE=image/jpeg:https://i0.wp.com/onkannavi.com/wp-content/uploa
 ds/2025/11/IMG_1779.jpg?fit=1076%2C1521&ssl=1
CATEGORIES:HIP HOP
LOCATION:https://maps.app.goo.gl/fSLwhSdthagoE6CM9
END:VEVENT
BEGIN:VTIMEZONE
TZID:Asia/Tokyo
X-LIC-LOCATION:Asia/Tokyo
BEGIN:STANDARD
DTSTART:20241212T220000
TZOFFSETFROM:+0900
TZOFFSETTO:+0900
TZNAME:JST
END:STANDARD
END:VTIMEZONE
END:VCALENDAR