BEGIN:VCALENDAR
VERSION:2.0
PRODID:-//wp-events-plugin.com//7.2.3.1//EN
TZID:Asia/Tokyo
X-WR-TIMEZONE:Asia/Tokyo
BEGIN:VEVENT
UID:13@onkannavi.com
DTSTART;TZID=Asia/Tokyo:20251113T200000
DTEND;TZID=Asia/Tokyo:20251113T230000
DTSTAMP:20251113T052804Z
URL:https://onkannavi.com/events/2025-11-6-kamishinjo-cypher/
SUMMARY:2025/11/13 上新庄サイファー
DESCRIPTION:\n日時\n \n\n2025/11/13 20:00～\n\n
ATTACH;FMTTYPE=image/jpeg:https://i0.wp.com/onkannavi.com/wp-content/uploa
 ds/2025/11/%E4%B8%8A%E6%96%B0%E5%BA%84%E3%82%B5%E3%82%A4%E3%83%95%E3%82%A1
 %E3%83%BC-1.jpg?fit=1083%2C1075&ssl=1
CATEGORIES:HIP HOP
LOCATION:https://t.co/6AZKEZ56No
END:VEVENT
BEGIN:VTIMEZONE
TZID:Asia/Tokyo
X-LIC-LOCATION:Asia/Tokyo
BEGIN:STANDARD
DTSTART:20241113T200000
TZOFFSETFROM:+0900
TZOFFSETTO:+0900
TZNAME:JST
END:STANDARD
END:VTIMEZONE
END:VCALENDAR