BEGIN:VCALENDAR
VERSION:2.0
PRODID:-//wp-events-plugin.com//7.2.3.1//EN
TZID:Asia/Tokyo
X-WR-TIMEZONE:Asia/Tokyo
BEGIN:VEVENT
UID:12@onkannavi.com
DTSTART;TZID=Asia/Tokyo:20251129T180000
DTEND;TZID=Asia/Tokyo:20251129T233000
DTSTAMP:20251113T043148Z
URL:https://onkannavi.com/events/2025-11-29-aru-vol-16/
SUMMARY:2025/11/29 在 vol. 16
DESCRIPTION:イベント概要\n日時\n2025/11/29 18:00～23:30\n場所\nL
 ong a Long\n\n料金\nADV.（w1D） ¥2\,000+1D\nDOOR（w1D） ¥2\,500+1D
 \n出演者情報\nSP Guest LIVE\nORCO\nGuest DJ\nYMST\nPick up LIVE\nヨ
 ハネス\n\nLuke\n\nSZK\n\nEmboy\n\nMEME\nPick up DJ\nTouge\nLIVE\nEsc/ap
 e\n\nMEIA\n\nRoku\n\nViViera\n\ngyan\n\nILL THE KID\n在 Member LIVE\nogaj
 un\nSponsor\nMajin Studio\nSupporter\n043\nPhoto\nA\nHost\n在
ATTACH;FMTTYPE=image/jpeg:https://i0.wp.com/onkannavi.com/wp-content/uploa
 ds/2025/11/%E5%9C%A8-vol.jpg?fit=828%2C1104&ssl=1
CATEGORIES:HIP HOP
LOCATION:https://maps.app.goo.gl/fVoKGuUEJFP7EF3SA
END:VEVENT
BEGIN:VTIMEZONE
TZID:Asia/Tokyo
X-LIC-LOCATION:Asia/Tokyo
BEGIN:STANDARD
DTSTART:20241129T180000
TZOFFSETFROM:+0900
TZOFFSETTO:+0900
TZNAME:JST
END:STANDARD
END:VTIMEZONE
END:VCALENDAR