BEGIN:VCALENDAR
VERSION:2.0
PRODID:-//wp-events-plugin.com//7.2.3.1//EN
TZID:Asia/Tokyo
X-WR-TIMEZONE:Asia/Tokyo
BEGIN:VEVENT
UID:26@onkannavi.com
DTSTART;TZID=Asia/Tokyo:20251127T180000
DTEND;TZID=Asia/Tokyo:20251127T230000
DTSTAMP:20251125T004356Z
URL:https://onkannavi.com/events/2025-11-27-to-dha-homies/
SUMMARY:2025/11/27 To Dha Homies
DESCRIPTION:イベント概要\n料金\nDoor（w1D） ¥1\,000\n出演者
 情報\nChampion LIVE\nZESTA\nPick up LIVE\n銀次郎\nRelease LIVE\nTempe
 st\nLIVE\nILL THE KID\n\nK-KID\nmSaK\nVampire Hunter\nスペシャルマ
 ンタロウ\nとうまっちょ\nヨハネス\nDJ\nILL THE KID\nとうま
 っちょ\n恵比寿\nBattle DJ\nTempest\n\nヨハネス\n\nmSaK\n\nILL TH
 E KID\nBeat LIVE\nHABE\nOpen MIC\nHABE
ATTACH;FMTTYPE=image/jpeg:https://i0.wp.com/onkannavi.com/wp-content/uploa
 ds/2025/11/To-Dha-Homies.png?fit=1080%2C1350&ssl=1
CATEGORIES:HIP HOP
LOCATION:https://maps.app.goo.gl/3MbKRWv2Ry7JYMTJ7
END:VEVENT
BEGIN:VTIMEZONE
TZID:Asia/Tokyo
X-LIC-LOCATION:Asia/Tokyo
BEGIN:STANDARD
DTSTART:20241127T180000
TZOFFSETFROM:+0900
TZOFFSETTO:+0900
TZNAME:JST
END:STANDARD
END:VTIMEZONE
END:VCALENDAR