BEGIN:VCALENDAR
VERSION:2.0
PRODID:-//wp-events-plugin.com//7.2.3.1//EN
TZID:Asia/Tokyo
X-WR-TIMEZONE:Asia/Tokyo
BEGIN:VEVENT
UID:6@onkannavi.com
DTSTART;TZID=Asia/Tokyo:20251124T130000
DTEND;TZID=Asia/Tokyo:20251124T130000
DTSTAMP:20251110T052604Z
URL:https://onkannavi.com/events/2025-11-24-hokusetsu-junk-magazine/
SUMMARY:2025/11/24 北摂JUNK MAGAZINE 創刊号
DESCRIPTION:イベント概要\n箕面初のMC BATTLE開催！\n\n小中高
 生エントリー無料\n\n賞金2万円、MVP 賞あり！\n料金\n入
 場料：¥1000\n\n※入場料とは別途でドリンク代を頂きま
 す。\n※中学生までは入場無料です。受付でお申し付け
 ください。\n※バトルのエントリー費は高校生まで無料
 です。年齢のわかるものを持参して頂けるとスムーズ
 にエントリーできます。\n※当日エントリーは混み合う
 ことも予想されます。13:00までに集まって頂けると幸い
 です。\n出演者情報\nGuest LIVE\nCIMA\nRelease LIVE\n絆GLUE\n\nKAT
 Y\nLIVE\nAlcatraz\n\njiyujin dash\n\nTUN2\n\nj-flag\n\nDum\n\n石橋アホ
 んだらギャング\nDJ\nSara\n\nTRX-D\n\naniki
ATTACH;FMTTYPE=image/jpeg:https://i0.wp.com/onkannavi.com/wp-content/uploa
 ds/2025/11/IMG_1355.jpg?fit=848%2C1200&ssl=1
CATEGORIES:HIP HOP
LOCATION:https://maps.app.goo.gl/kwhtYY1Pq9J8YreZ6
END:VEVENT
BEGIN:VTIMEZONE
TZID:Asia/Tokyo
X-LIC-LOCATION:Asia/Tokyo
BEGIN:STANDARD
DTSTART:20241124T130000
TZOFFSETFROM:+0900
TZOFFSETTO:+0900
TZNAME:JST
END:STANDARD
END:VTIMEZONE
END:VCALENDAR