BEGIN:VCALENDAR
VERSION:2.0
PRODID:-//wp-events-plugin.com//7.2.3.1//EN
TZID:Asia/Tokyo
X-WR-TIMEZONE:Asia/Tokyo
BEGIN:VEVENT
UID:7@onkannavi.com
DTSTART;TZID=Asia/Tokyo:20251123T210000
DTEND;TZID=Asia/Tokyo:20251124T050000
DTSTAMP:20251110T092433Z
URL:https://onkannavi.com/events/2025-11-23-the-last-dope-japan-tour/
SUMMARY:2025/11/23 THE LAST DOPE JAPAN TOUR 2025 TRIANGLE 14TH ANNIVERSARY-
  DAY.3 -
DESCRIPTION:イベント概要\n料金\nADV 3\,000YEN+1D\n\nDOOR 4\,000YEN+
 1D\n出演者情報\nSpecial LIVE\nB.I.G.JOE x 笠原瑠斗x buzzy.\nLIVE\
 nYELLOW DRAGON BAND\nJAB×キー暴×atius\nBNKR街道\nDEATH STARR\nicaLi
  crew\n尖CLUB\nSYJ RECORD\nRADIO RAHEEM\nK.i.D\nDJ\nKAPPA\nSUIGUN\n匠\nM
 aruGreen\nMADJAG\nBeat LIVE\nJASON X\ncastro beats\n0mSv\n\n  
ATTACH;FMTTYPE=image/jpeg:https://i0.wp.com/onkannavi.com/wp-content/uploa
 ds/2025/11/THE-LAST-DOPE-JAPAN-TOUR-2025.jpeg?fit=1448%2C2048&ssl=1
CATEGORIES:HIP HOP
LOCATION:https://maps.app.goo.gl/pRGeX4Kp8emNAP768
END:VEVENT
BEGIN:VTIMEZONE
TZID:Asia/Tokyo
X-LIC-LOCATION:Asia/Tokyo
BEGIN:STANDARD
DTSTART:20241123T210000
TZOFFSETFROM:+0900
TZOFFSETTO:+0900
TZNAME:JST
END:STANDARD
END:VTIMEZONE
END:VCALENDAR