BEGIN:VCALENDAR
VERSION:2.0
PRODID:-//wp-events-plugin.com//7.2.3.1//EN
TZID:Asia/Tokyo
X-WR-TIMEZONE:Asia/Tokyo
BEGIN:VEVENT
UID:24@onkannavi.com
DTSTART;TZID=Asia/Tokyo:20251121T185000
DTEND;TZID=Asia/Tokyo:20251121T185000
DTSTAMP:20251120T052538Z
URL:https://onkannavi.com/events/2025-11-21-miracle-friday/
SUMMARY:2025/11/21 MIRACLE FRIDAY
DESCRIPTION:イベント概要\n料金\n一般 1\,500円\n\n未成年 1\,00
 0円\n※別途1Drink600円が必要です。\n出演者情報\nDJ\n恵比
 寿\n楓\nKONAMON\nbehemoth\nMilli\nユルハ\n\n
ATTACH;FMTTYPE=image/jpeg:https://i0.wp.com/onkannavi.com/wp-content/uploa
 ds/2025/11/IMG_1848.jpg?fit=848%2C1200&ssl=1
CATEGORIES:ALL GENRE
LOCATION:https://maps.app.goo.gl/Lq65gmgvz4fBLSoQ9
END:VEVENT
BEGIN:VTIMEZONE
TZID:Asia/Tokyo
X-LIC-LOCATION:Asia/Tokyo
BEGIN:STANDARD
DTSTART:20241121T185000
TZOFFSETFROM:+0900
TZOFFSETTO:+0900
TZNAME:JST
END:STANDARD
END:VTIMEZONE
END:VCALENDAR