BEGIN:VCALENDAR
VERSION:2.0
PRODID:-//wp-events-plugin.com//7.2.3.1//EN
TZID:Asia/Tokyo
X-WR-TIMEZONE:Asia/Tokyo
BEGIN:VEVENT
UID:22@onkannavi.com
DTSTART;TZID=Asia/Tokyo:20251119T190000
DTEND;TZID=Asia/Tokyo:20251119T230000
DTSTAMP:20251118T172056Z
URL:https://onkannavi.com/events/2025-11-19-one-move-disco-vol-38/
SUMMARY:2025/11/19 One Move Disco Vol. 38
DESCRIPTION:イベント概要\n料金\nEntrance 1\,000yen（1D in）\n出
 演者情報\nGenre\nHARD ANIME\n\nHARD TECHNO\n\nTRANCE\nDJ\nMadeLLa\n\nO
 NCELEE\n\nBushiEmo\n\nITエンジニア\n\nLIL MALA DICK\n\nWanpei.b\n\n5H
 V\n\nKASHIWAGI\n\n&nbsp\;
ATTACH;FMTTYPE=image/jpeg:https://i0.wp.com/onkannavi.com/wp-content/uploa
 ds/2025/11/2025-11-19-one-move-disco.jpeg?fit=2048%2C2048&ssl=1
CATEGORIES:HARD ANIME,HARD TECHNO,TRANCE
LOCATION:https://maps.app.goo.gl/giWSSKxEfHHPvm8u7
END:VEVENT
BEGIN:VTIMEZONE
TZID:Asia/Tokyo
X-LIC-LOCATION:Asia/Tokyo
BEGIN:STANDARD
DTSTART:20241119T190000
TZOFFSETFROM:+0900
TZOFFSETTO:+0900
TZNAME:JST
END:STANDARD
END:VTIMEZONE
END:VCALENDAR