BEGIN:VCALENDAR
VERSION:2.0
PRODID:-//wp-events-plugin.com//7.2.3.1//EN
TZID:Asia/Tokyo
X-WR-TIMEZONE:Asia/Tokyo
BEGIN:VEVENT
UID:5@onkannavi.com
DTSTART;TZID=Asia/Tokyo:20251119T170000
DTEND;TZID=Asia/Tokyo:20251119T230000
DTSTAMP:20251110T044046Z
URL:https://onkannavi.com/events/2025-11-19-guerilla-vol-28-2nd-anniversar
 y/
SUMMARY:2025/11/19 GUERILLA vol.28 2ND ANNIVERSARY
DESCRIPTION:イベント概要\n料金\nADV.（w1D） ¥1\,000+1D\nDOOR（w
 1D） ¥1\,500+1D\n出演者情報\nGuest LIVE\nJUNKY\nPick up LIVE\nOneMi
 \n\nEiT\nRelease LIVE\n霧鐘\n\nTempest\nRelease Beat LIVE\nguendouzi\nLI
 VE\nRESIN\n\nKoKuShi\n\nj-flag\n\nDOPEING TRIBE\n\nC6ke-man\n\nB-Lad\n\nFe
 liz\nDJ\nYoshi\n\nboo-foo\nDancer\nGray a.k.a. Tinny STEEL\nFood\n麺処do
 uzi
ATTACH;FMTTYPE=image/jpeg:https://i0.wp.com/onkannavi.com/wp-content/uploa
 ds/2025/11/GUERILLA-vol.28.jpg?fit=1200%2C1200&ssl=1
LOCATION:https://maps.app.goo.gl/U7D1FMEWVGMVwDLR7
END:VEVENT
BEGIN:VTIMEZONE
TZID:Asia/Tokyo
X-LIC-LOCATION:Asia/Tokyo
BEGIN:STANDARD
DTSTART:20241119T170000
TZOFFSETFROM:+0900
TZOFFSETTO:+0900
TZNAME:JST
END:STANDARD
END:VTIMEZONE
END:VCALENDAR