BEGIN:VCALENDAR
VERSION:2.0
PRODID:-//wp-events-plugin.com//7.2.3.1//EN
TZID:Asia/Tokyo
X-WR-TIMEZONE:Asia/Tokyo
BEGIN:VEVENT
UID:15@onkannavi.com
DTSTART;TZID=Asia/Tokyo:20251116T160000
DTEND;TZID=Asia/Tokyo:20251116T160000
DTSTAMP:20251113T074657Z
URL:https://onkannavi.com/events/2025-11-16-syakou-jirei-in-osaka/
SUMMARY:2025/11/16 社交辞令 in 大阪
DESCRIPTION:\nイベント概要\n \n日時\n \n\n2025/11/16 開場16:30 
 開演17:00\n\n\n\n\n料金\n \n\n一般：¥3\,500\n\n \n\n学割：¥2\,
 500（入場時、学生証要提示）\n\n \n出演者情報\n \nLIVE\n \
 n\nDOTAMA\nふぁんく\nBond Vox (煩悩 &amp\; 公家バイブス)\nゆ
 らりん\n\n
ATTACH;FMTTYPE=image/jpeg:https://i0.wp.com/onkannavi.com/wp-content/uploa
 ds/2025/11/1116-%E7%A4%BE%E4%BA%A4%E8%BE%9E%E4%BB%A4.jpg?fit=2048%2C1407&s
 sl=1
CATEGORIES:HIP HOP
LOCATION:https://maps.app.goo.gl/xxJWkLuUFR3asBnp6
END:VEVENT
BEGIN:VTIMEZONE
TZID:Asia/Tokyo
X-LIC-LOCATION:Asia/Tokyo
BEGIN:STANDARD
DTSTART:20241116T160000
TZOFFSETFROM:+0900
TZOFFSETTO:+0900
TZNAME:JST
END:STANDARD
END:VTIMEZONE
END:VCALENDAR