BEGIN:VCALENDAR
VERSION:2.0
PRODID:-//wp-events-plugin.com//7.2.3.1//EN
TZID:Asia/Tokyo
X-WR-TIMEZONE:Asia/Tokyo
BEGIN:VEVENT
UID:16@onkannavi.com
DTSTART;TZID=Asia/Tokyo:20251115T143000
DTEND;TZID=Asia/Tokyo:20251115T143000
DTSTAMP:20251113T082819Z
URL:https://onkannavi.com/events/2025-11-15-sengoku-z-y-alpha/
SUMMARY:22025/11/15 戦極 Z世代vsY世代 そしてα世代
DESCRIPTION:イベント概要\n料金\n前売り&amp\;ゲスト \\3\,000\n
 \n当日券 \\3\,500\n出演者情報\nGuest LIVE\nNARIMIMI\n\nMay4\nLIVE\
 nHawk-I\n\n歌々詩\n\nZzz音\nMC Battle\nZ世代【1996～2011生まれ
 】\nヨハネス\n天涯孤独の民\nHawk-I\nARKT\nJoker clown\n也也\n
 Zzz音\nよんろく\nRunLine\nY世代【1981～1995生まれ】\nFRANKEN\
 nBATTLE手裏剣\nDENNISON\n太尊\n煩悩\nDTMGR\nアスベスト\n公家
 バイブス\nスナフキン\nα世代【2011生まれ～】\nFCザイロ
 ス\nhattori HNZ\n\nVS 予選4人\nDJ\nAAayX8\nKreha\ntaizen\nHOST\nMAKA\n
 その他特記事項\n優勝者は賞金 + 11月28日戦極40章進出権
 利\n\n 
ATTACH;FMTTYPE=image/jpeg:https://i0.wp.com/onkannavi.com/wp-content/uploa
 ds/2025/11/22025-11-15-%E6%88%A6%E6%A5%B5-Z%E4%B8%96%E4%BB%A3vsY%E4%B8%96%
 E4%BB%A3-%E3%81%9D%E3%81%97%E3%81%A6%CE%B1%E4%B8%96%E4%BB%A3.jpeg?fit=1144
 %2C1430&ssl=1
CATEGORIES:HIP HOP
LOCATION:https://maps.app.goo.gl/CLGvUiRiKvgGxYsQ7
END:VEVENT
BEGIN:VTIMEZONE
TZID:Asia/Tokyo
X-LIC-LOCATION:Asia/Tokyo
BEGIN:STANDARD
DTSTART:20241115T143000
TZOFFSETFROM:+0900
TZOFFSETTO:+0900
TZNAME:JST
END:STANDARD
END:VTIMEZONE
END:VCALENDAR