BEGIN:VCALENDAR
VERSION:2.0
PRODID:-//wp-events-plugin.com//7.2.3.1//EN
TZID:Asia/Tokyo
X-WR-TIMEZONE:Asia/Tokyo
BEGIN:VEVENT
UID:19@onkannavi.com
DTSTART;TZID=Asia/Tokyo:20251114T220000
DTEND;TZID=Asia/Tokyo:20251114T220000
DTSTAMP:20251114T145436Z
URL:https://onkannavi.com/events/2025-11-14-rookie-in-hell-release-party/
SUMMARY:2025/11/14 rookie in hell release party
DESCRIPTION:イベント概要\n料金\nEntrance 1500＋1D\n出演者情報
 \nLIVE\nIVO\n\nRiddy as grab43\n\nrotori\n\nYoung Eddie\n\ndanjo\n\nkakky\
 n\nRooty\nDJ\nDJ A$AMI\n\nDJ couhg\n\nDJ PANASONIC\n\nIn da house\n\nbussy
 \n\n太郎\n\nUK\nShop\nfeel the rain\n\nMoonSideError\n\n蕣
ATTACH;FMTTYPE=image/jpeg:https://i0.wp.com/onkannavi.com/wp-content/uploa
 ds/2025/11/rookie-in-hell-release-party.jpg?fit=750%2C1000&ssl=1
CATEGORIES:HIP HOP
LOCATION:https://maps.app.goo.gl/xT2AfQk8aynJnMD16
END:VEVENT
BEGIN:VTIMEZONE
TZID:Asia/Tokyo
X-LIC-LOCATION:Asia/Tokyo
BEGIN:STANDARD
DTSTART:20241114T220000
TZOFFSETFROM:+0900
TZOFFSETTO:+0900
TZNAME:JST
END:STANDARD
END:VTIMEZONE
END:VCALENDAR