BEGIN:VCALENDAR
VERSION:2.0
PRODID:-//wp-events-plugin.com//7.2.3.1//EN
TZID:Asia/Tokyo
X-WR-TIMEZONE:Asia/Tokyo
BEGIN:VEVENT
UID:20@onkannavi.com
DTSTART;TZID=Asia/Tokyo:20251114T220000
DTEND;TZID=Asia/Tokyo:20251114T220000
DTSTAMP:20251114T150044Z
URL:https://onkannavi.com/events/2025-11-14-local-brand/
SUMMARY:2025/11/14 LOCAL BRAND
DESCRIPTION:イベント概要\n料金\nDOOR 2\,000yen(＋1Drink)\n\nADV 1\
 ,500yen(＋1Drink)\n\nLADIES FREE!!\n出演者情報\nRelease LIVE\nHARD W
 ORKERS\n\nMJLLA\nLIVE\nKoKuShi\n\nRESIN\n\nbubble green\n\nRISE\n\nChitra\
 n\nJACK DALLER\n\ndo8\n\n森月琉\n\nFeliz\nDJ\nguendouzi\n\nYOPPY\n\nSHA
 OLIN\n\n奏音\n\n&nbsp\;
ATTACH;FMTTYPE=image/jpeg:https://i0.wp.com/onkannavi.com/wp-content/uploa
 ds/2025/11/LOCAL-BRAND.jpg?fit=1076%2C1522&ssl=1
CATEGORIES:HIP HOP
LOCATION:https://maps.app.goo.gl/xT2AfQk8aynJnMD16
END:VEVENT
BEGIN:VTIMEZONE
TZID:Asia/Tokyo
X-LIC-LOCATION:Asia/Tokyo
BEGIN:STANDARD
DTSTART:20241114T220000
TZOFFSETFROM:+0900
TZOFFSETTO:+0900
TZNAME:JST
END:STANDARD
END:VTIMEZONE
END:VCALENDAR