BEGIN:VCALENDAR
VERSION:2.0
PRODID:-//wp-events-plugin.com//7.2.3.1//EN
TZID:Asia/Tokyo
X-WR-TIMEZONE:Asia/Tokyo
BEGIN:VEVENT
UID:10@onkannavi.com
DTSTART;TZID=Asia/Tokyo:20251111T180000
DTEND;TZID=Asia/Tokyo:20251111T230000
DTSTAMP:20251110T090802Z
URL:https://onkannavi.com/events/2025-11-11-triangle-survivor-vol-75/
SUMMARY:2025/11/11 TRIANGLE SURVIVOR vol.75
DESCRIPTION:\nイベント概要\n \n料金\n \n\nADV ·500+1D\n\n \n\nDOOR
  ·1000+1D\n\n \n\nBATTLE ENTRY ·500\n\n \n出演者情報\n \nGuest LIVE
 \n \n\nレイジ\n\n \nChampion LIVE\n \n\n煩悩\n\n \nRelease LIVE\n \n\
 n霧鐘\n\n \n\nTempest\n\n \nLIVE\n \n\n森月竜\nとうまっちょ\n
 きりん\nElephant一星\n公家バイブス\nOGa.k.a.OG\nSPIKE-K\nT-SLUG
 GER\nMasatatz&amp\;DJ CROSS\n\n \nDJ / MC BATTLE DJ\n \n\nDJ CROSS\nDJ Jug
 g\nYoung Packy\n\n \nMC Battle HOST\n \n\nTempest\n\n \nその他情報\n 
 \n\nMC BATTLEエントリー募集！！！\n優勝者はCHAMPION LIVE+エ
 ントリー費総獲り！！\nバトルエントリーはElephant一星
 （@OnestarMoriya）までIwitter DMにて！！！\n\n
ATTACH;FMTTYPE=image/jpeg:https://i0.wp.com/onkannavi.com/wp-content/uploa
 ds/2025/11/2025-11-11-triangle-survivor-vol-75.png?fit=848%2C1200&ssl=1
CATEGORIES:HIP HOP
LOCATION:https://maps.app.goo.gl/pzURm93VAqmnHkpx6
END:VEVENT
BEGIN:VTIMEZONE
TZID:Asia/Tokyo
X-LIC-LOCATION:Asia/Tokyo
BEGIN:STANDARD
DTSTART:20241111T180000
TZOFFSETFROM:+0900
TZOFFSETTO:+0900
TZNAME:JST
END:STANDARD
END:VTIMEZONE
END:VCALENDAR